BEGIN:VCALENDAR
VERSION:2.0
PRODID:-//Veranstaltungszentrum K3 - ECPv6.15.20//NONSGML v1.0//EN
CALSCALE:GREGORIAN
METHOD:PUBLISH
X-WR-CALNAME:Veranstaltungszentrum K3
X-ORIGINAL-URL:https://k3.at
X-WR-CALDESC:Veranstaltungen für Veranstaltungszentrum K3
REFRESH-INTERVAL;VALUE=DURATION:PT1H
X-Robots-Tag:noindex
X-PUBLISHED-TTL:PT1H
BEGIN:VTIMEZONE
TZID:Europe/Vienna
BEGIN:DAYLIGHT
TZOFFSETFROM:+0100
TZOFFSETTO:+0200
TZNAME:CEST
DTSTART:20250330T010000
END:DAYLIGHT
BEGIN:STANDARD
TZOFFSETFROM:+0200
TZOFFSETTO:+0100
TZNAME:CET
DTSTART:20251026T010000
END:STANDARD
BEGIN:DAYLIGHT
TZOFFSETFROM:+0100
TZOFFSETTO:+0200
TZNAME:CEST
DTSTART:20260329T010000
END:DAYLIGHT
BEGIN:STANDARD
TZOFFSETFROM:+0200
TZOFFSETTO:+0100
TZNAME:CET
DTSTART:20261025T010000
END:STANDARD
BEGIN:DAYLIGHT
TZOFFSETFROM:+0100
TZOFFSETTO:+0200
TZNAME:CEST
DTSTART:20270328T010000
END:DAYLIGHT
BEGIN:STANDARD
TZOFFSETFROM:+0200
TZOFFSETTO:+0100
TZNAME:CET
DTSTART:20271031T010000
END:STANDARD
END:VTIMEZONE
BEGIN:VEVENT
DTSTART;TZID=Europe/Vienna:20261203T180000
DTEND;TZID=Europe/Vienna:20261203T210000
DTSTAMP:20260425T191505
CREATED:20260220T194129Z
LAST-MODIFIED:20260303T170241Z
UID:5167-1796320800-1796331600@k3.at
SUMMARY:Gesunde Gemeinde
DESCRIPTION:Die Workshopreihe der Gesunden Gemeinde St. Kanzian\n„Frauenkreis Auszeit mit Verena Kiessling\, MSc.“ findet im Seminarraum statt.
URL:https://k3.at/veranstaltungen/gesunde-gemeinde-54/
LOCATION:VERANSTALTUNGSZENTRUM K3\, Kirchweg 4a\, St. Kanzian\, Kärnten\, 9122\, Österreich
END:VEVENT
BEGIN:VEVENT
DTSTART;TZID=Europe/Vienna:20261217T180000
DTEND;TZID=Europe/Vienna:20261217T220000
DTSTAMP:20260425T191505
CREATED:20251128T082856Z
LAST-MODIFIED:20251128T082900Z
UID:5041-1797530400-1797544800@k3.at
SUMMARY:Gesunde Gemeinde
DESCRIPTION:Veranstaltung der Gesunden Gemeinde St. Kanzian\nDer kostenlose Treffpunkt „BegegnungsRaum Lichtblick“ findet im Seminarraum statt.
URL:https://k3.at/veranstaltungen/gesunde-gemeinde-37/
END:VEVENT
END:VCALENDAR