BEGIN:VCALENDAR
VERSION:2.0
PRODID:-//Veranstaltungszentrum K3 - ECPv6.15.20//NONSGML v1.0//EN
CALSCALE:GREGORIAN
METHOD:PUBLISH
X-ORIGINAL-URL:https://k3.at
X-WR-CALDESC:Veranstaltungen für Veranstaltungszentrum K3
REFRESH-INTERVAL;VALUE=DURATION:PT1H
X-Robots-Tag:noindex
X-PUBLISHED-TTL:PT1H
BEGIN:VTIMEZONE
TZID:Europe/Vienna
BEGIN:DAYLIGHT
TZOFFSETFROM:+0100
TZOFFSETTO:+0200
TZNAME:CEST
DTSTART:20250330T010000
END:DAYLIGHT
BEGIN:STANDARD
TZOFFSETFROM:+0200
TZOFFSETTO:+0100
TZNAME:CET
DTSTART:20251026T010000
END:STANDARD
BEGIN:DAYLIGHT
TZOFFSETFROM:+0100
TZOFFSETTO:+0200
TZNAME:CEST
DTSTART:20260329T010000
END:DAYLIGHT
BEGIN:STANDARD
TZOFFSETFROM:+0200
TZOFFSETTO:+0100
TZNAME:CET
DTSTART:20261025T010000
END:STANDARD
BEGIN:DAYLIGHT
TZOFFSETFROM:+0100
TZOFFSETTO:+0200
TZNAME:CEST
DTSTART:20270328T010000
END:DAYLIGHT
BEGIN:STANDARD
TZOFFSETFROM:+0200
TZOFFSETTO:+0100
TZNAME:CET
DTSTART:20271031T010000
END:STANDARD
END:VTIMEZONE
BEGIN:VEVENT
DTSTART;TZID=Europe/Vienna:20261001T183000
DTEND;TZID=Europe/Vienna:20261001T193000
DTSTAMP:20260425T160132
CREATED:20260307T081646Z
LAST-MODIFIED:20260307T081817Z
UID:5188-1790879400-1790883000@k3.at
SUMMARY:Gesunde Gemeinde
DESCRIPTION:Kostenloser Vortrag mit Alexandra Haaji zum Thema „Vergesslich – oder einfach nur ein überlastetes Nervensystem „.\nIm Seminarraum.
URL:https://k3.at/veranstaltungen/gesunde-gemeinde-57/
END:VEVENT
BEGIN:VEVENT
DTSTART;TZID=Europe/Vienna:20261002T193000
DTEND;TZID=Europe/Vienna:20261002T233000
DTSTAMP:20260425T160132
CREATED:20260109T082720Z
LAST-MODIFIED:20260303T164025Z
UID:5085-1790969400-1790983800@k3.at
SUMMARY:Symphonic Highlights
DESCRIPTION:Unter der musikalischen Leitung von Viktoria Tanzer-Marold konzertiert das Symphonische Blasorchester Völkermarkt gemeinsam mit dem Opernchor Völkermarkt und bringt gibt zahlreiche Stücke der Unterhaltungsmusik zum Besten! \nDie Veranstaltung findet im großen Saal mit unteren Foyer und Balkon statt.
URL:https://k3.at/veranstaltungen/symphonic-highlights/
END:VEVENT
BEGIN:VEVENT
DTSTART;TZID=Europe/Vienna:20261003T193000
DTEND;TZID=Europe/Vienna:20261003T233000
DTSTAMP:20260425T160132
CREATED:20260109T082907Z
LAST-MODIFIED:20260109T082911Z
UID:5087-1791055800-1791070200@k3.at
SUMMARY:Symphonic Highlights
DESCRIPTION:Das Projekt Symphonic Highlights geht in die zweite Runde. Unter der musikalischen Leitung von Viktoria Tanzer-Marold konzertiert das Symphonische Blasorchester Völkermarkt gemeinsam mit dem Opernchor Völkermarkt und bringt gibt wieder zahlreiche Stücke der Unterhaltungsmusik zum Besten! \nDie Veranstaltung findet im großen Saal mit unteren Foyer und Balkon statt.
URL:https://k3.at/veranstaltungen/symphonic-highlights-2/
END:VEVENT
BEGIN:VEVENT
DTSTART;TZID=Europe/Vienna:20261008T180000
DTEND;TZID=Europe/Vienna:20261008T210000
DTSTAMP:20260425T160132
CREATED:20260220T193554Z
LAST-MODIFIED:20260220T193753Z
UID:5163-1791482400-1791493200@k3.at
SUMMARY:Gesunde Gemeinde
DESCRIPTION:Die Workshopreihe der Gesunden Gemeinde St. Kanzian\n„Frauenkreis Auszeit mit Verena Kiessling\, MSc.“ findet im Seminarraum statt.
URL:https://k3.at/veranstaltungen/gesunde-gemeinde-52/
END:VEVENT
BEGIN:VEVENT
DTSTART;TZID=Europe/Vienna:20261016T080000
DTEND;TZID=Europe/Vienna:20261016T170000
DTSTAMP:20260425T160132
CREATED:20260227T183621Z
LAST-MODIFIED:20260227T183628Z
UID:5178-1792137600-1792170000@k3.at
SUMMARY:Vorwahltag
DESCRIPTION:„Vorwahltag“ Landwirtschaftskammerwahl 2026 im ganzen Haus
URL:https://k3.at/veranstaltungen/vorwahltag/
END:VEVENT
BEGIN:VEVENT
DTSTART;TZID=Europe/Vienna:20261022T180000
DTEND;TZID=Europe/Vienna:20261022T200000
DTSTAMP:20260425T160132
CREATED:20251128T083114Z
LAST-MODIFIED:20251128T083118Z
UID:5045-1792692000-1792699200@k3.at
SUMMARY:Gesunde Gemeinde
DESCRIPTION:Veranstaltung der Gesunden Gemeinde St. Kanzian\nDer kostenlose Treffpunkt „BegegnungsRaum Lichtblick“ findet im Seminarraum statt.
URL:https://k3.at/veranstaltungen/gesunde-gemeinde-39/
END:VEVENT
BEGIN:VEVENT
DTSTART;TZID=Europe/Vienna:20261023T190000
DTEND;TZID=Europe/Vienna:20261023T203000
DTSTAMP:20260425T160132
CREATED:20260303T133754Z
LAST-MODIFIED:20260303T134048Z
UID:5185-1792782000-1792787400@k3.at
SUMMARY:Gesunde Gemeinde
DESCRIPTION:Kostenloser Motivationsvortrag mit WillFit Trainer Willi Pinter zum Thema „Herz spürt. Kopf Denkt. Füße Gehen“\nIm Seminarraum
URL:https://k3.at/veranstaltungen/gesunde-gemeinde-56/
END:VEVENT
BEGIN:VEVENT
DTSTART;TZID=Europe/Vienna:20261025T080000
DTEND;TZID=Europe/Vienna:20261025T170000
DTSTAMP:20260425T160132
CREATED:20260209T144521Z
LAST-MODIFIED:20260227T183406Z
UID:5151-1792915200-1792947600@k3.at
SUMMARY:Landwirtschaftskammerwahl
DESCRIPTION:Landwirtschaftskammerwahl „Wahltag“ 2026 im ganzen Haus
URL:https://k3.at/veranstaltungen/gemeindeveranstaltung-2/
END:VEVENT
END:VCALENDAR