BEGIN:VCALENDAR
VERSION:2.0
PRODID:-//Veranstaltungszentrum K3 - ECPv6.15.20//NONSGML v1.0//EN
CALSCALE:GREGORIAN
METHOD:PUBLISH
X-ORIGINAL-URL:https://k3.at
X-WR-CALDESC:Veranstaltungen für Veranstaltungszentrum K3
REFRESH-INTERVAL;VALUE=DURATION:PT1H
X-Robots-Tag:noindex
X-PUBLISHED-TTL:PT1H
BEGIN:VTIMEZONE
TZID:Europe/Vienna
BEGIN:DAYLIGHT
TZOFFSETFROM:+0100
TZOFFSETTO:+0200
TZNAME:CEST
DTSTART:20250330T010000
END:DAYLIGHT
BEGIN:STANDARD
TZOFFSETFROM:+0200
TZOFFSETTO:+0100
TZNAME:CET
DTSTART:20251026T010000
END:STANDARD
BEGIN:DAYLIGHT
TZOFFSETFROM:+0100
TZOFFSETTO:+0200
TZNAME:CEST
DTSTART:20260329T010000
END:DAYLIGHT
BEGIN:STANDARD
TZOFFSETFROM:+0200
TZOFFSETTO:+0100
TZNAME:CET
DTSTART:20261025T010000
END:STANDARD
BEGIN:DAYLIGHT
TZOFFSETFROM:+0100
TZOFFSETTO:+0200
TZNAME:CEST
DTSTART:20270328T010000
END:DAYLIGHT
BEGIN:STANDARD
TZOFFSETFROM:+0200
TZOFFSETTO:+0100
TZNAME:CET
DTSTART:20271031T010000
END:STANDARD
END:VTIMEZONE
BEGIN:VEVENT
DTSTART;TZID=Europe/Vienna:20260301T093000
DTEND;TZID=Europe/Vienna:20260301T170000
DTSTAMP:20260423T180558
CREATED:20250609T203137Z
LAST-MODIFIED:20250828T163258Z
UID:4792-1772357400-1772384400@k3.at
SUMMARY:Förderung und Weiterentwicklung deiner Sensibilität
DESCRIPTION:Förderung und Weiterentwicklung deiner Sensibilität und Medialität mit Heilungssequenzen Teil 2 \nMedialität und Spiritualität sind in den vergangenen Jahren auch in unseren Breiten kein Fremdwort mehr. Viele Menschen öffnen sich dieser neuen Strömung\, die mit einfacher Esoterik oft in einen Topf geworfen wird. \nAstrid Wipfli-Rieder\, hellsichtiges Medium\, möchte in diesem Tagesseminar\, das keinerlei Vorkenntnisse benötigt\, Mut machen\, die eigene Sensitivität\, Medialität und Spiritualität erstmalig bzw. neu zu entdecken oder auch für bereits Fortgeschrittene zu fördern. \nIn einem Theorieblock zeigt sie Unterschiede zwischen Medialität und Spiritualität auf und es werden Themen wie Sensibilität und Sensitivität erklärt. Zusätzlich wird Astrid den Teilnehmer:innen die Werte der Medialität näher erläutern und dass diese in keinem Widerspruch zu Religion und Spiritualität stehen! \nIn Theorie und Praxis werden Sie Ihre ersten Schritte oder Folgeschritte machen und ins Staunen kommen\, wieviel Sie entdecken. \nKann man Medialität lernen oder ist es doch nur eine Gabe von wenigen Menschen? Diese und viele andere Fragen wird Astrid in diesem speziellen Seminar beantworten. \nDie Veranstaltung findet im Sminarraum statt.
URL:https://k3.at/veranstaltungen/foerderung-und-weiterentwicklung-deiner-sensibilitaet/
END:VEVENT
BEGIN:VEVENT
DTSTART;TZID=Europe/Vienna:20260307T170000
DTEND;TZID=Europe/Vienna:20260307T210000
DTSTAMP:20260423T180558
CREATED:20251117T073619Z
LAST-MODIFIED:20251117T073619Z
UID:5018-1772902800-1772917200@k3.at
SUMMARY:JHV der ÖWR Klopein
DESCRIPTION:Die Jahreshauptversammlung der Österreichischen Wasserrettung Einsatzstelle Klopein \nfindet im Seminarraum statt.
URL:https://k3.at/veranstaltungen/jhv-der-oewr-klopein/
END:VEVENT
BEGIN:VEVENT
DTSTART;TZID=Europe/Vienna:20260313T180000
DTEND;TZID=Europe/Vienna:20260313T200000
DTSTAMP:20260423T180558
CREATED:20251008T071034Z
LAST-MODIFIED:20251008T073443Z
UID:4968-1773424800-1773432000@k3.at
SUMMARY:Vorspielstunde
DESCRIPTION:Klassenabend der Klasse Anton Korenjak -Gitarre JPR \nfindet im Seminarraum statt!
URL:https://k3.at/veranstaltungen/vorspielstunde-28/
END:VEVENT
BEGIN:VEVENT
DTSTART;TZID=Europe/Vienna:20260316T180000
DTEND;TZID=Europe/Vienna:20260316T190000
DTSTAMP:20260423T180558
CREATED:20251103T165033Z
LAST-MODIFIED:20251103T165036Z
UID:5004-1773684000-1773687600@k3.at
SUMMARY:Klassenabend
DESCRIPTION:Der Klassenabend der Klasse Thomas Sax – Trompete \nfindet im Seminarraum statt!
URL:https://k3.at/veranstaltungen/klassenabend-2/
END:VEVENT
BEGIN:VEVENT
DTSTART;TZID=Europe/Vienna:20260317T180000
DTEND;TZID=Europe/Vienna:20260317T190000
DTSTAMP:20260423T180558
CREATED:20251008T070541Z
LAST-MODIFIED:20251008T070839Z
UID:4963-1773770400-1773774000@k3.at
SUMMARY:Vorspielstunde
DESCRIPTION:Klassenabend von Abelina Stieger -Blockflöte \nFindet im Seminarraum statt!
URL:https://k3.at/veranstaltungen/vorspielstunde-27/
END:VEVENT
BEGIN:VEVENT
DTSTART;TZID=Europe/Vienna:20260318T180000
DTEND;TZID=Europe/Vienna:20260318T200000
DTSTAMP:20260423T180558
CREATED:20251008T071227Z
LAST-MODIFIED:20251008T071231Z
UID:4970-1773856800-1773864000@k3.at
SUMMARY:Vorspielstunde
DESCRIPTION:Klassenabend der Klasse Paul Zewell – Schlagwerk \nFindet im Seminarraum statt!
URL:https://k3.at/veranstaltungen/vorspielstunde-29/
END:VEVENT
BEGIN:VEVENT
DTSTART;TZID=Europe/Vienna:20260319T180000
DTEND;TZID=Europe/Vienna:20260319T210000
DTSTAMP:20260423T180558
CREATED:20250703T112528Z
LAST-MODIFIED:20250703T112531Z
UID:4849-1773943200-1773954000@k3.at
SUMMARY:Gesunde Gemeinde
DESCRIPTION:Workshopreihe der Gesunden Gemeinde St. Kanzian im Seminarraum\nFrauenkreis Auszeit mit Verena Kiessling\, MSc.
URL:https://k3.at/veranstaltungen/gesunde-gemeinde-23/
END:VEVENT
BEGIN:VEVENT
DTSTART;TZID=Europe/Vienna:20260321T150000
DTEND;TZID=Europe/Vienna:20260321T160000
DTSTAMP:20260423T180558
CREATED:20260120T112636Z
LAST-MODIFIED:20260120T112817Z
UID:5128-1774105200-1774108800@k3.at
SUMMARY:Alpenkasperl
DESCRIPTION:Der Alpenkasperl gastiert wieder in St. Kanzian mit dem Stück „Die Weltreise“. \nKartenbestellung per E-Mail unter: ticket@puppenspieler.at \nFindet im großen Saal statt.
URL:https://k3.at/veranstaltungen/alpenkasperl/
END:VEVENT
BEGIN:VEVENT
DTSTART;TZID=Europe/Vienna:20260324T080000
DTEND;TZID=Europe/Vienna:20260324T110000
DTSTAMP:20260423T180558
CREATED:20250703T081717Z
LAST-MODIFIED:20260127T080655Z
UID:4837-1774339200-1774350000@k3.at
SUMMARY:Gesunde Gemeinde
DESCRIPTION:Frauenberatung bewegt in St. Kanzian!\nDas kostenlose Angebot der WIFF-Frauenberatungsstelle Völkermarkt und dem Frauen- und Familienreferat der Gesunden Gemeinde St. Kanzian findet im Seminarraum statt.
URL:https://k3.at/veranstaltungen/gesunde-gemeinde-17/
END:VEVENT
BEGIN:VEVENT
DTSTART;TZID=Europe/Vienna:20260324T180000
DTEND;TZID=Europe/Vienna:20260324T203000
DTSTAMP:20260423T180558
CREATED:20251008T070705Z
LAST-MODIFIED:20251008T070709Z
UID:4965-1774375200-1774384200@k3.at
SUMMARY:Gesunde Gemeinde
DESCRIPTION:Werden Sie digitalfit!\nKostenloses Angebot der Gesunden Gemeinde St. Kanzian zum Thema: “ Sicher unterwegs im Internet – online Gefahren rechtzeitig erkennen“ \nAnmeldung: Bürgerservicebüro der Gemeinde St. Kanzian a. K. \nFindet im Seminarraum statt!
URL:https://k3.at/veranstaltungen/gesunde-gemeinde-34/
END:VEVENT
BEGIN:VEVENT
DTSTART;TZID=Europe/Vienna:20260326T180000
DTEND;TZID=Europe/Vienna:20260326T200000
DTSTAMP:20260423T180558
CREATED:20251128T083643Z
LAST-MODIFIED:20251128T083647Z
UID:5055-1774548000-1774555200@k3.at
SUMMARY:Gesunde Gemeinde
DESCRIPTION:Veranstaltung der Gesunden Gemeinde St. Kanzian\nDer kostenlose Treffpunkt „BegegnungsRaum Lichtblick“ findet im Seminarraum statt.
URL:https://k3.at/veranstaltungen/gesunde-gemeinde-44/
END:VEVENT
END:VCALENDAR