BEGIN:VCALENDAR
VERSION:2.0
PRODID:-//Veranstaltungszentrum K3 - ECPv6.15.17//NONSGML v1.0//EN
CALSCALE:GREGORIAN
METHOD:PUBLISH
X-ORIGINAL-URL:https://k3.at
X-WR-CALDESC:Veranstaltungen für Veranstaltungszentrum K3
REFRESH-INTERVAL;VALUE=DURATION:PT1H
X-Robots-Tag:noindex
X-PUBLISHED-TTL:PT1H
BEGIN:VTIMEZONE
TZID:Europe/Vienna
BEGIN:DAYLIGHT
TZOFFSETFROM:+0100
TZOFFSETTO:+0200
TZNAME:CEST
DTSTART:20250330T010000
END:DAYLIGHT
BEGIN:STANDARD
TZOFFSETFROM:+0200
TZOFFSETTO:+0100
TZNAME:CET
DTSTART:20251026T010000
END:STANDARD
BEGIN:DAYLIGHT
TZOFFSETFROM:+0100
TZOFFSETTO:+0200
TZNAME:CEST
DTSTART:20260329T010000
END:DAYLIGHT
BEGIN:STANDARD
TZOFFSETFROM:+0200
TZOFFSETTO:+0100
TZNAME:CET
DTSTART:20261025T010000
END:STANDARD
BEGIN:DAYLIGHT
TZOFFSETFROM:+0100
TZOFFSETTO:+0200
TZNAME:CEST
DTSTART:20270328T010000
END:DAYLIGHT
BEGIN:STANDARD
TZOFFSETFROM:+0200
TZOFFSETTO:+0100
TZNAME:CET
DTSTART:20271031T010000
END:STANDARD
END:VTIMEZONE
BEGIN:VEVENT
DTSTART;TZID=Europe/Vienna:20260424T180000
DTEND;TZID=Europe/Vienna:20260424T220000
DTSTAMP:20260423T131138
CREATED:20260331T192358Z
LAST-MODIFIED:20260417T155622Z
UID:5199-1777053600-1777068000@k3.at
SUMMARY:Privatveranstaltung
DESCRIPTION:Interne Veranstaltung im großen Saal und unteren Foyer
URL:https://k3.at/veranstaltungen/interne-veranstaltung-8/
END:VEVENT
BEGIN:VEVENT
DTSTART;TZID=Europe/Vienna:20260428T080000
DTEND;TZID=Europe/Vienna:20260428T110000
DTSTAMP:20260423T131138
CREATED:20250703T081612Z
LAST-MODIFIED:20250703T081615Z
UID:4835-1777363200-1777374000@k3.at
SUMMARY:Gesunde Gemeinde
DESCRIPTION:Frauenberatung bewegt in St. Kanzian!\nDas kostenlose Angebot der WIFF-Frauenberatungsstelle Völkermarkt und dem Frauen- und Familienreferat der Gesunden Gemeinde St. Kanzian findet im Seminarraum statt.
URL:https://k3.at/veranstaltungen/gesunde-gemeinde-16/
END:VEVENT
BEGIN:VEVENT
DTSTART;TZID=Europe/Vienna:20260428T180000
DTEND;TZID=Europe/Vienna:20260428T200000
DTSTAMP:20260423T131138
CREATED:20251128T083420Z
LAST-MODIFIED:20251128T083420Z
UID:5051-1777399200-1777406400@k3.at
SUMMARY:Gesunde Gemeinde
DESCRIPTION:Veranstaltung der Gesunden Gemeinde St. Kanzian\nDer kostenlose Treffpunkt „BegegnungsRaum Lichtblick“ findet im Seminarraum statt.
URL:https://k3.at/veranstaltungen/gesunde-gemeinde-42/
END:VEVENT
BEGIN:VEVENT
DTSTART;TZID=Europe/Vienna:20260504T140000
DTEND;TZID=Europe/Vienna:20260504T170000
DTSTAMP:20260423T131138
CREATED:20260204T170345Z
LAST-MODIFIED:20260204T170349Z
UID:5149-1777903200-1777914000@k3.at
SUMMARY:Tourismusreform 2025+
DESCRIPTION:Tourismusreform 2025+ Region: Villach\, Faaker See\, Ossiacher See\nZukunft braucht Klarheit – und aktive Mitgestaltung \nMit der Tourismusreform 2025+ entsteht in Kärnten ein neues\, zukunftsfähiges Tourismus-System. Wer die Veränderungen kennt\, kann sich gezielt einbringen – und die Chancen für Region und Betrieb voll ausschöpfen – dazu kommen wir natürlich in alle neun Tourismusregionen! \nDiese Informationsveranstaltung gibt dir einen kompakten Überblick über die zentralen Inhalte der Reform: von den neuen Organisationsstrukturen über das novellierte Kärntner Tourismusgesetz bis zu den finanziellen Auswirkungen durch die Abgabenreform. Auch die bevorstehenden Vorstandswahlen der neuen Tourismusverbände werden thematisiert. \nDas erwartet dich: \nReformziele\, Systemlogik und gesetzliche Neuerungen verständlich erklärt\nÜberblick über Aufgabenverteilung und Zuständigkeiten im neuen Modell\nEinblick in Finanzströme und Förderlogik nach der Abgabenreform\nMitgestaltungsmöglichkeiten vor Ort – von Wahlen bis zur Zusammenarbeit
URL:https://k3.at/veranstaltungen/tourismusreform-2025/
END:VEVENT
BEGIN:VEVENT
DTSTART;TZID=Europe/Vienna:20260506T180000
DTEND;TZID=Europe/Vienna:20260506T210000
DTSTAMP:20260423T131138
CREATED:20260220T193124Z
LAST-MODIFIED:20260220T193245Z
UID:5157-1778090400-1778101200@k3.at
SUMMARY:Gesunde Gemeinde
DESCRIPTION:Die Workshopreihe der Gesunden Gemeinde St. Kanzian\n„Frauenkreis Auszeit mit Verena Kiessling\, MSc.“ findet im Seminarraum statt.
URL:https://k3.at/veranstaltungen/gesunde-gemeinde-49/
END:VEVENT
BEGIN:VEVENT
DTSTART;TZID=Europe/Vienna:20260519T173000
DTEND;TZID=Europe/Vienna:20260519T203000
DTSTAMP:20260423T131138
CREATED:20251003T094042Z
LAST-MODIFIED:20251003T094046Z
UID:4955-1779211800-1779222600@k3.at
SUMMARY:Gesunde Gemeinde
DESCRIPTION:Werden Sie digitalfit!\nKostenloses Angebot der Gesunden Gemeinde St. Kanzian zum Thema: “ Künstliche Intelligenz für den Alltag nutzen“ \nReferentin: Birgit Kandutsch\, Kärntner Bildungswerk \nAnmeldung: Bürgerservicebüro der Gemeinde St. Kanzian a. K. \nIm Seminarraum
URL:https://k3.at/veranstaltungen/gesunde-gemeinde-31/
END:VEVENT
BEGIN:VEVENT
DTSTART;TZID=Europe/Vienna:20260522T100000
DTEND;TZID=Europe/Vienna:20260522T110000
DTSTAMP:20260423T131138
CREATED:20250312T082109Z
LAST-MODIFIED:20250312T082228Z
UID:4690-1779444000-1779447600@k3.at
SUMMARY:Kindertheater HEUSCHRECK
DESCRIPTION:Das Kindertheater HEUSCHRECK für Kindergarten- und Volksschulgruppen im Rahmen der Schulschluss-Tour 2026 findet im großen Saal und unteren Foyer statt.
URL:https://k3.at/veranstaltungen/kindertheater-heuschreck/
END:VEVENT
BEGIN:VEVENT
DTSTART;TZID=Europe/Vienna:20260523T080000
DTEND;TZID=Europe/Vienna:20260523T180000
DTSTAMP:20260423T131138
CREATED:20260317T122502Z
LAST-MODIFIED:20260317T122506Z
UID:5191-1779523200-1779559200@k3.at
SUMMARY:Vortrag
DESCRIPTION:Der Vortrag mit Robert Franz wird im großen Saal und unteren Foyer durchgeführt
URL:https://k3.at/veranstaltungen/vortrag-4/
END:VEVENT
BEGIN:VEVENT
DTSTART;TZID=Europe/Vienna:20260526T080000
DTEND;TZID=Europe/Vienna:20260526T110000
DTSTAMP:20260423T131138
CREATED:20250703T074308Z
LAST-MODIFIED:20250703T074314Z
UID:4833-1779782400-1779793200@k3.at
SUMMARY:Gesunde Gemeinde
DESCRIPTION:Frauenberatung bewegt in St. Kanzian!\nDas kostenlose Angebot der WIFF-Frauenberatungsstelle Völkermarkt und dem Frauen- und Familienreferat der Gesunden Gemeinde St. Kanzian findet im Seminarraum statt.
URL:https://k3.at/veranstaltungen/gesunde-gemeinde-15/
END:VEVENT
BEGIN:VEVENT
DTSTART;TZID=Europe/Vienna:20260526T183000
DTEND;TZID=Europe/Vienna:20260526T210000
DTSTAMP:20260423T131138
CREATED:20250917T192258Z
LAST-MODIFIED:20250917T194612Z
UID:4943-1779820200-1779829200@k3.at
SUMMARY:Play Rock Pop -Concert
DESCRIPTION:Play Rock Pop -Concert der Musikschule Südkärnten\nIm großen Saal und unteren Foyer
URL:https://k3.at/veranstaltungen/play-rock-pop-concert-4/
END:VEVENT
BEGIN:VEVENT
DTSTART;TZID=Europe/Vienna:20260527T180000
DTEND;TZID=Europe/Vienna:20260527T210000
DTSTAMP:20260423T131138
CREATED:20260302T102014Z
LAST-MODIFIED:20260302T102023Z
UID:5181-1779904800-1779915600@k3.at
SUMMARY:Gesunde Gemeinde
DESCRIPTION:Werden Sie digitialfit! \nKostenloses Angebot der Gesunden Gemeinde St. Kanzian zum Thema „Digitale Amtswege – ID-Austria“. \nSparen Sie Zeit und erledigen Sie Ihre Amtswege zukünftig online! Entdecken Sie die Services von „FinanzOnline“ und „meineSV“. Sparen Sie Zeit und behalten Sie den Überblick – starten Sie jetzt Ihre Online-Amtswege! \nAnmeldung: Bürgerservicebüro der Gemeinde St. Kanzian a. K.
URL:https://k3.at/veranstaltungen/gesunde-gemeinde-55/
END:VEVENT
BEGIN:VEVENT
DTSTART;TZID=Europe/Vienna:20260528T180000
DTEND;TZID=Europe/Vienna:20260528T200000
DTSTAMP:20260423T131138
CREATED:20251128T083534Z
LAST-MODIFIED:20251128T083544Z
UID:5053-1779991200-1779998400@k3.at
SUMMARY:Gesunde Gemeinde
DESCRIPTION:Veranstaltung der Gesunden Gemeinde St. Kanzian\nDer kostenlose Treffpunkt „BegegnungsRaum Lichtblick“ findet im Seminarraum statt.
URL:https://k3.at/veranstaltungen/gesunde-gemeinde-43/
END:VEVENT
BEGIN:VEVENT
DTSTART;TZID=Europe/Vienna:20260530T080000
DTEND;TZID=Europe/Vienna:20260530T230000
DTSTAMP:20260423T131138
CREATED:20251118T100742Z
LAST-MODIFIED:20251218T201228Z
UID:5021-1780128000-1780182000@k3.at
SUMMARY:Vorreservierung Kinder- & Jugendchöretreffen
DESCRIPTION:Kinder- & Jugendchöretreffen. Die Veranstaltung findet im Stiftshof in Eberndorf statt und wird nur bei Schlechtwetter im Veranstaltungszentrum K3 abgehalten.
URL:https://k3.at/veranstaltungen/kinder-jugendchoeretreffen/
END:VEVENT
BEGIN:VEVENT
DTSTART;TZID=Europe/Vienna:20260603T150000
DTEND;TZID=Europe/Vienna:20260603T200000
DTSTAMP:20260423T131138
CREATED:20260320T122048Z
LAST-MODIFIED:20260320T122354Z
UID:5193-1780498800-1780516800@k3.at
SUMMARY:Blutspendeaktion
DESCRIPTION:\,\,Tu‘ s für mich + Tu’s für dich“ – Blutspende Aktion am 03.Juni ab 15.00h im großen Saal.
URL:https://k3.at/veranstaltungen/blutspendeaktion-9/
END:VEVENT
BEGIN:VEVENT
DTSTART;TZID=Europe/Vienna:20260603T180000
DTEND;TZID=Europe/Vienna:20260603T210000
DTSTAMP:20260423T131138
CREATED:20260220T193349Z
LAST-MODIFIED:20260220T193352Z
UID:5159-1780509600-1780520400@k3.at
SUMMARY:Gesunde Gemeinde
DESCRIPTION:Die Workshopreihe der Gesunden Gemeinde St. Kanzian\n„Frauenkreis Auszeit mit Verena Kiessling\, MSc.“ findet im Seminarraum statt.
URL:https://k3.at/veranstaltungen/gesunde-gemeinde-50/
END:VEVENT
BEGIN:VEVENT
DTSTART;TZID=Europe/Vienna:20260610T160000
DTEND;TZID=Europe/Vienna:20260610T210000
DTSTAMP:20260423T131138
CREATED:20260123T204144Z
LAST-MODIFIED:20260123T204149Z
UID:5134-1781107200-1781125200@k3.at
SUMMARY:Kundenveranstaltung
DESCRIPTION:Kundenveranstaltung von Häfele Österreich\nim unteren Foyer und Seminarraum!
URL:https://k3.at/veranstaltungen/kundenveranstaltung-3/
END:VEVENT
BEGIN:VEVENT
DTSTART;TZID=Europe/Vienna:20260611T180000
DTEND;TZID=Europe/Vienna:20260611T190000
DTSTAMP:20260423T131138
CREATED:20251103T165508Z
LAST-MODIFIED:20251103T165512Z
UID:5008-1781200800-1781204400@k3.at
SUMMARY:Klassenabend
DESCRIPTION:Der Klassenabend der Klasse Diego Garcia Pliego -Klarinette und Saxofon \nfindet im Seminarraum statt!
URL:https://k3.at/veranstaltungen/klassenabend-4/
END:VEVENT
BEGIN:VEVENT
DTSTART;TZID=Europe/Vienna:20260615T180000
DTEND;TZID=Europe/Vienna:20260615T220000
DTSTAMP:20260423T131138
CREATED:20260303T084602Z
LAST-MODIFIED:20260303T085520Z
UID:5183-1781546400-1781560800@k3.at
SUMMARY:Jahreshauptversammlung
DESCRIPTION:Jahreshauptversammlung der Raiffeisenbank Eberndorf\nim grossen Saal und unteren Foyer
URL:https://k3.at/veranstaltungen/jahreshauptversammlung-4/
END:VEVENT
BEGIN:VEVENT
DTSTART;TZID=Europe/Vienna:20260616T180000
DTEND;TZID=Europe/Vienna:20260616T200000
DTSTAMP:20260423T131138
CREATED:20250917T191854Z
LAST-MODIFIED:20250917T191859Z
UID:4941-1781632800-1781640000@k3.at
SUMMARY:Jahreskonzert der Musikschule
DESCRIPTION:Jahreskonzert der Musikschule St.Kanzian – „Magische Momente“ \nIm großen Saal unteren Foyer und Balkon!
URL:https://k3.at/veranstaltungen/jahreskonzert-der-musikschule/
END:VEVENT
BEGIN:VEVENT
DTSTART;TZID=Europe/Vienna:20260618T180000
DTEND;TZID=Europe/Vienna:20260618T200000
DTSTAMP:20260423T131138
CREATED:20251128T082720Z
LAST-MODIFIED:20251128T082725Z
UID:5039-1781805600-1781812800@k3.at
SUMMARY:Gesunde Gemeinde
DESCRIPTION:Workshop im Rahmen der Gesunden Gemeinde\nKostenloser Treffpunkt „ImPuls der Zeit – von Männern für Männer“\nIm Seminarraum!
URL:https://k3.at/veranstaltungen/gesunde-gemeinde-36/
END:VEVENT
BEGIN:VEVENT
DTSTART;TZID=Europe/Vienna:20260618T180000
DTEND;TZID=Europe/Vienna:20260618T200000
DTSTAMP:20260423T131138
CREATED:20251128T083321Z
LAST-MODIFIED:20251128T111031Z
UID:5049-1781805600-1781812800@k3.at
SUMMARY:Gesunde Gemeinde
DESCRIPTION:Veranstaltung der Gesunden Gemeinde St. Kanzian\nDer kostenlose Treffpunkt „BegegnungsRaum Lichtblick“.\nVeranstaltungsort noch nicht festgelegt!
URL:https://k3.at/veranstaltungen/gesunde-gemeinde-41/
END:VEVENT
BEGIN:VEVENT
DTSTART;TZID=Europe/Vienna:20260630T080000
DTEND;TZID=Europe/Vienna:20260630T110000
DTSTAMP:20260423T131138
CREATED:20250703T074113Z
LAST-MODIFIED:20250703T081442Z
UID:4831-1782806400-1782817200@k3.at
SUMMARY:Gesunde Gemeinde
DESCRIPTION:Frauenberatung bewegt in St. Kanzian!\nDas kostenlose Angebot der WIFF-Frauenberatungsstelle Völkermarkt und dem Frauen- und Familienreferat der Gesunden Gemeinde St. Kanzian findet im Seminarraum statt.
URL:https://k3.at/veranstaltungen/gesunde-gemeinde-14/
END:VEVENT
BEGIN:VEVENT
DTSTART;TZID=Europe/Vienna:20260807T080000
DTEND;TZID=Europe/Vienna:20260807T170000
DTSTAMP:20260423T131138
CREATED:20260126T193917Z
LAST-MODIFIED:20260126T193921Z
UID:5142-1786089600-1786122000@k3.at
SUMMARY:Veranstaltungsvorbereitung
DESCRIPTION:Veranstalungsvorbereitung der Spirit Messe!\nIm Großen Saal und unteren Foyer
URL:https://k3.at/veranstaltungen/veranstaltungsvorbereitung/
END:VEVENT
BEGIN:VEVENT
DTSTART;TZID=Europe/Vienna:20260808T090000
DTEND;TZID=Europe/Vienna:20260808T170000
DTSTAMP:20260423T131138
CREATED:20260123T204458Z
LAST-MODIFIED:20260123T205037Z
UID:5136-1786179600-1786208400@k3.at
SUMMARY:Spirit Messe
DESCRIPTION:Spirit Messe – Energetik \, Esoterik und Kunsthandwerk!\nIm Großem Saal mit unterem Foyer und Balkon.
URL:https://k3.at/veranstaltungen/spirit-messe/
END:VEVENT
BEGIN:VEVENT
DTSTART;TZID=Europe/Vienna:20260809T090000
DTEND;TZID=Europe/Vienna:20260809T170000
DTSTAMP:20260423T131138
CREATED:20260123T204732Z
LAST-MODIFIED:20260123T204951Z
UID:5138-1786266000-1786294800@k3.at
SUMMARY:Spirit Messe
DESCRIPTION:Spirit Messe – Energetik \, Esoterik und Kunsthandwerk!\nIm Großen Saal mit unterem Foyer und Balkon.
URL:https://k3.at/veranstaltungen/spirit-messe-2/
END:VEVENT
BEGIN:VEVENT
DTSTART;TZID=Europe/Vienna:20260910T180000
DTEND;TZID=Europe/Vienna:20260910T210000
DTSTAMP:20260423T131138
CREATED:20260220T193448Z
LAST-MODIFIED:20260220T193508Z
UID:5161-1789063200-1789074000@k3.at
SUMMARY:Gesunde Gemeinde
DESCRIPTION:Die Workshopreihe der Gesunden Gemeinde St. Kanzian\n„Frauenkreis Auszeit mit Verena Kiessling\, MSc.“ findet im Seminarraum statt.
URL:https://k3.at/veranstaltungen/gesunde-gemeinde-51/
END:VEVENT
BEGIN:VEVENT
DTSTART;TZID=Europe/Vienna:20260912T140000
DTEND;TZID=Europe/Vienna:20260912T183000
DTSTAMP:20260423T131138
CREATED:20250609T202042Z
LAST-MODIFIED:20250609T202042Z
UID:4785-1789221600-1789237800@k3.at
SUMMARY:Ich bin immer noch hier …
DESCRIPTION:Ich bin immer noch hier … \n„Bitte trauere nicht um mich\,\nich bin immer noch hier\, auch wenn du mich nicht siehst.\nIch bin Tag und Nacht an deiner Seite\,\nund werde für immer in deinem Herzen bleiben“. \nSolche und ähnliche Texte können wir oft auf Traueranzeigen lesen oder werden bei Beerdigungen gesprochen. Sie sollen den Hinterbliebenen Trost und Hilfe sein. Der Tod ist nur der Verlust der physischen Hülle\, die wir hier auf Erden zum Leben brauchen\, lediglich der Schritt auf die andere Seite des Lebensvorhanges\, in eine andere Dimension – der geistigen Welt. \nAstrid Wipfli-Rieder hat sich seit ihrer Kindheit mit unzähligen Seelen unterhalten und will in ihrem Vortrag den Zuhörer:innen einen neuen Einblick über das Leben in der geistigen Welt vermitteln. Ihr ist es wichtig\, den Hinterbliebenen die wahre Realität näher zu bringen\, um dadurch die Trauer zu lindern\, eine neue Sichtweise zu bekommen und ein Wissen zu schaffen\, dass unsere Lieben sehr regen Anteil an unserem Leben nehmen und so der Aussage\, dass die Toten ruhen\, widersprechen. \nDei Veranstaltung findet im großen Saal und unteren Foyer statt.
URL:https://k3.at/veranstaltungen/ich-bin-immer-noch-hier/
END:VEVENT
BEGIN:VEVENT
DTSTART;TZID=Europe/Vienna:20260913T093000
DTEND;TZID=Europe/Vienna:20260913T170000
DTSTAMP:20260423T131138
CREATED:20250609T201645Z
LAST-MODIFIED:20250609T202145Z
UID:4783-1789291800-1789318800@k3.at
SUMMARY:Wege zur Inneren Stärkung
DESCRIPTION:WEGE ZUR INNEREN STÄRKUNG UND AKTIVIERUNG DER ENERGIEZENTREN \nViele Menschen verbinden Heilung mit der rein körperlichen. Die echte Heilung geschieht jedoch in unserem Inneren und damit auf der Seelenebene. Die wahre innere Heilung bedeutet deshalb\, sich einzulassen und hinzuhören\, was die eigene Seele mitteilen möchte. Dieser Weg ist für jeden von uns individuell und einzigartig. Auf diesem Weg der Heilung erhalten wir Unterstützung aus der geistigen\, spirituellen Welt. Es sind diese unsere Verstorbenen\, Geistführer oder Wegbegleiter:innen\, aber auch Engel und Erzengel\, die uns begleiten und helfen. \nAstrid Wipfli-Rieder gibt in diesem Tagesseminar einen umfassenden Einblick\, um den Weg zur inneren Heilung zu finden. Nach einem Theorieblock\, zeigt sie Übungen und Techniken\, die unterstützend wirken. Zusätzlich bringt sie Beispiele\, wie Verstorbene durch Botschaften\, ihre irdischen Angehörigen auf dem Weg zur geschilderten Heilung unterstützen. \nDie Veranstaltung findet im Seminarraum statt.
URL:https://k3.at/veranstaltungen/wege-zur-inneren-staerkung/
END:VEVENT
BEGIN:VEVENT
DTSTART;TZID=Europe/Vienna:20260917T190000
DTEND;TZID=Europe/Vienna:20260917T220000
DTSTAMP:20260423T131138
CREATED:20250729T133103Z
LAST-MODIFIED:20260325T171241Z
UID:4881-1789671600-1789682400@k3.at
SUMMARY:Konzert
DESCRIPTION:Die Konzerte finden im gesamten Haus statt!
URL:https://k3.at/veranstaltungen/konzert-3/
END:VEVENT
BEGIN:VEVENT
DTSTART;TZID=Europe/Vienna:20260918T190000
DTEND;TZID=Europe/Vienna:20260918T220000
DTSTAMP:20260423T131138
CREATED:20250729T132802Z
LAST-MODIFIED:20260325T170908Z
UID:4877-1789758000-1789768800@k3.at
SUMMARY:Konzert
DESCRIPTION:Die Konzerte finden im gesamten Haus statt!
URL:https://k3.at/veranstaltungen/konzert/
END:VEVENT
END:VCALENDAR