BEGIN:VCALENDAR
VERSION:2.0
PRODID:-//Veranstaltungszentrum K3 - ECPv6.15.20//NONSGML v1.0//EN
CALSCALE:GREGORIAN
METHOD:PUBLISH
X-ORIGINAL-URL:https://k3.at
X-WR-CALDESC:Veranstaltungen für Veranstaltungszentrum K3
REFRESH-INTERVAL;VALUE=DURATION:PT1H
X-Robots-Tag:noindex
X-PUBLISHED-TTL:PT1H
BEGIN:VTIMEZONE
TZID:Europe/Vienna
BEGIN:DAYLIGHT
TZOFFSETFROM:+0100
TZOFFSETTO:+0200
TZNAME:CEST
DTSTART:20250330T010000
END:DAYLIGHT
BEGIN:STANDARD
TZOFFSETFROM:+0200
TZOFFSETTO:+0100
TZNAME:CET
DTSTART:20251026T010000
END:STANDARD
BEGIN:DAYLIGHT
TZOFFSETFROM:+0100
TZOFFSETTO:+0200
TZNAME:CEST
DTSTART:20260329T010000
END:DAYLIGHT
BEGIN:STANDARD
TZOFFSETFROM:+0200
TZOFFSETTO:+0100
TZNAME:CET
DTSTART:20261025T010000
END:STANDARD
BEGIN:DAYLIGHT
TZOFFSETFROM:+0100
TZOFFSETTO:+0200
TZNAME:CEST
DTSTART:20270328T010000
END:DAYLIGHT
BEGIN:STANDARD
TZOFFSETFROM:+0200
TZOFFSETTO:+0100
TZNAME:CET
DTSTART:20271031T010000
END:STANDARD
END:VTIMEZONE
BEGIN:VEVENT
DTSTART;TZID=Europe/Vienna:20261128T160000
DTEND;TZID=Europe/Vienna:20261128T183000
DTSTAMP:20260425T185302
CREATED:20250829T085707Z
LAST-MODIFIED:20250829T085711Z
UID:4913-1795881600-1795890600@k3.at
SUMMARY:Die Unsterblichkeit der Seele
DESCRIPTION:DIE UNSTERBLICHKEIT DER SEELE\nDer physische Körper ist während unseres Erdendaseins quasi die „Hülle“\, das Erdenkleid in welchem Seele und Geist wohnen. Beim irdischen Tod verlassen diese Seele und dieser Geist den menschlichen Körper\, der wiederum zu Arsche\, Staub wird. In diesem Sinne leben Seele und Geist weiter und wandern durch die Sphären. Der Tod ist damit lediglich «der Schritt auf die andere Seite des Lebensvorhanges»\, in eine andere Dimension\, die geistige Welt.\nMit ihren Vorträgen möchte Astrid Wipfli-Rieder den Menschen\nTrost\, Erleichterung\, inneren Frieden geben\, aber auch die Angst vor dem\nSterben nehmen und beweisen\, dass es ein DANACH gibt. \nNach einem einstündigen Vortrag mit interessanten Einblicken in das Leben danach\, übermittelt sie nach einer Fragerunde und Pause noch Botschaften von lieben Verstorbenen der Teilnehmer*innen.
URL:https://k3.at/veranstaltungen/die-unsterblichkeit-der-seele/
END:VEVENT
END:VCALENDAR