BEGIN:VCALENDAR
VERSION:2.0
PRODID:-//Veranstaltungszentrum K3 - ECPv6.15.20//NONSGML v1.0//EN
CALSCALE:GREGORIAN
METHOD:PUBLISH
X-WR-CALNAME:Veranstaltungszentrum K3
X-ORIGINAL-URL:https://k3.at
X-WR-CALDESC:Veranstaltungen für Veranstaltungszentrum K3
REFRESH-INTERVAL;VALUE=DURATION:PT1H
X-Robots-Tag:noindex
X-PUBLISHED-TTL:PT1H
BEGIN:VTIMEZONE
TZID:Europe/Vienna
BEGIN:DAYLIGHT
TZOFFSETFROM:+0100
TZOFFSETTO:+0200
TZNAME:CEST
DTSTART:20250330T010000
END:DAYLIGHT
BEGIN:STANDARD
TZOFFSETFROM:+0200
TZOFFSETTO:+0100
TZNAME:CET
DTSTART:20251026T010000
END:STANDARD
BEGIN:DAYLIGHT
TZOFFSETFROM:+0100
TZOFFSETTO:+0200
TZNAME:CEST
DTSTART:20260329T010000
END:DAYLIGHT
BEGIN:STANDARD
TZOFFSETFROM:+0200
TZOFFSETTO:+0100
TZNAME:CET
DTSTART:20261025T010000
END:STANDARD
BEGIN:DAYLIGHT
TZOFFSETFROM:+0100
TZOFFSETTO:+0200
TZNAME:CEST
DTSTART:20270328T010000
END:DAYLIGHT
BEGIN:STANDARD
TZOFFSETFROM:+0200
TZOFFSETTO:+0100
TZNAME:CET
DTSTART:20271031T010000
END:STANDARD
END:VTIMEZONE
BEGIN:VEVENT
DTSTART;TZID=Europe/Vienna:20261127T180000
DTEND;TZID=Europe/Vienna:20261127T203000
DTSTAMP:20260425T190355
CREATED:20250828T164652Z
LAST-MODIFIED:20250828T164815Z
UID:4910-1795802400-1795811400@k3.at
SUMMARY:DER WEG INS LICHT
DESCRIPTION:Es kommt der Tag\, an dem wir alle einmal sterben und unseren physischen Körper verlassen. Aber was kommt dann? Einige Menschen wollen sich mit dem DANACH nicht auseinandersetzen oder haben Angst davor\, andere wiederum sprechen von Nahtoderfahrungen\, Träumen in denen sie ein wunderbares Licht und/oder einem Lichtkanal\, in dem sie sich und bereits verstorbene Angehörige plötzlich gesehen haben.\nWas ist mit Menschen\, die im Koma oder in einem verwirrten Zustand den Übergang haben\, Todgeburten\, Abtreibungen oder Suiziden? Diese und viele andere Aspekte wird Ihnen Astrid beantworten. Aber auch vom Land des Lichtes\, Lichtwesen und Lichtbegleiter und unserem Übergang beim irdischen Tod und im Sterbeprozess berichten. \nNach ihrem Vortrag übermittelt sie\, im zweiten Teil des Nachmittags\, Botschaften von Verstorbenen der Teilnehmer*innen und will somit ein neues Bewusstsein schaffen\, dass wir hier auf Erden und auch danach «Lichtwesen» sind\, die nur eine Zeitlang eine irdische Hülle tragen. \nDie Veranstaltung findet im Seminarraum statt!
URL:https://k3.at/veranstaltungen/der-weg-ins-licht-2/
END:VEVENT
END:VCALENDAR