BEGIN:VCALENDAR
VERSION:2.0
PRODID:-//Veranstaltungszentrum K3 - ECPv6.15.20//NONSGML v1.0//EN
CALSCALE:GREGORIAN
METHOD:PUBLISH
X-WR-CALNAME:Veranstaltungszentrum K3
X-ORIGINAL-URL:https://k3.at
X-WR-CALDESC:Veranstaltungen für Veranstaltungszentrum K3
REFRESH-INTERVAL;VALUE=DURATION:PT1H
X-Robots-Tag:noindex
X-PUBLISHED-TTL:PT1H
BEGIN:VTIMEZONE
TZID:Europe/Vienna
BEGIN:DAYLIGHT
TZOFFSETFROM:+0100
TZOFFSETTO:+0200
TZNAME:CEST
DTSTART:20250330T010000
END:DAYLIGHT
BEGIN:STANDARD
TZOFFSETFROM:+0200
TZOFFSETTO:+0100
TZNAME:CET
DTSTART:20251026T010000
END:STANDARD
BEGIN:DAYLIGHT
TZOFFSETFROM:+0100
TZOFFSETTO:+0200
TZNAME:CEST
DTSTART:20260329T010000
END:DAYLIGHT
BEGIN:STANDARD
TZOFFSETFROM:+0200
TZOFFSETTO:+0100
TZNAME:CET
DTSTART:20261025T010000
END:STANDARD
BEGIN:DAYLIGHT
TZOFFSETFROM:+0100
TZOFFSETTO:+0200
TZNAME:CEST
DTSTART:20270328T010000
END:DAYLIGHT
BEGIN:STANDARD
TZOFFSETFROM:+0200
TZOFFSETTO:+0100
TZNAME:CET
DTSTART:20271031T010000
END:STANDARD
END:VTIMEZONE
BEGIN:VEVENT
DTSTART;TZID=Europe/Vienna:20260428T080000
DTEND;TZID=Europe/Vienna:20260428T110000
DTSTAMP:20260423T174737
CREATED:20250703T081612Z
LAST-MODIFIED:20250703T081615Z
UID:4835-1777363200-1777374000@k3.at
SUMMARY:Gesunde Gemeinde
DESCRIPTION:Frauenberatung bewegt in St. Kanzian!\nDas kostenlose Angebot der WIFF-Frauenberatungsstelle Völkermarkt und dem Frauen- und Familienreferat der Gesunden Gemeinde St. Kanzian findet im Seminarraum statt.
URL:https://k3.at/veranstaltungen/gesunde-gemeinde-16/
END:VEVENT
BEGIN:VEVENT
DTSTART;TZID=Europe/Vienna:20260428T180000
DTEND;TZID=Europe/Vienna:20260428T200000
DTSTAMP:20260423T174737
CREATED:20251128T083420Z
LAST-MODIFIED:20251128T083420Z
UID:5051-1777399200-1777406400@k3.at
SUMMARY:Gesunde Gemeinde
DESCRIPTION:Veranstaltung der Gesunden Gemeinde St. Kanzian\nDer kostenlose Treffpunkt „BegegnungsRaum Lichtblick“ findet im Seminarraum statt.
URL:https://k3.at/veranstaltungen/gesunde-gemeinde-42/
END:VEVENT
END:VCALENDAR