BEGIN:VCALENDAR
VERSION:2.0
PRODID:-//Veranstaltungszentrum K3 - ECPv6.15.20//NONSGML v1.0//EN
CALSCALE:GREGORIAN
METHOD:PUBLISH
X-ORIGINAL-URL:https://k3.at
X-WR-CALDESC:Veranstaltungen für Veranstaltungszentrum K3
REFRESH-INTERVAL;VALUE=DURATION:PT1H
X-Robots-Tag:noindex
X-PUBLISHED-TTL:PT1H
BEGIN:VTIMEZONE
TZID:Europe/Vienna
BEGIN:DAYLIGHT
TZOFFSETFROM:+0100
TZOFFSETTO:+0200
TZNAME:CEST
DTSTART:20250330T010000
END:DAYLIGHT
BEGIN:STANDARD
TZOFFSETFROM:+0200
TZOFFSETTO:+0100
TZNAME:CET
DTSTART:20251026T010000
END:STANDARD
BEGIN:DAYLIGHT
TZOFFSETFROM:+0100
TZOFFSETTO:+0200
TZNAME:CEST
DTSTART:20260329T010000
END:DAYLIGHT
BEGIN:STANDARD
TZOFFSETFROM:+0200
TZOFFSETTO:+0100
TZNAME:CET
DTSTART:20261025T010000
END:STANDARD
BEGIN:DAYLIGHT
TZOFFSETFROM:+0100
TZOFFSETTO:+0200
TZNAME:CEST
DTSTART:20270328T010000
END:DAYLIGHT
BEGIN:STANDARD
TZOFFSETFROM:+0200
TZOFFSETTO:+0100
TZNAME:CET
DTSTART:20271031T010000
END:STANDARD
END:VTIMEZONE
BEGIN:VEVENT
DTSTART;TZID=Europe/Vienna:20260228T090000
DTEND;TZID=Europe/Vienna:20260228T120000
DTSTAMP:20260423T192111
CREATED:20250821T093247Z
LAST-MODIFIED:20251127T154928Z
UID:4898-1772269200-1772280000@k3.at
SUMMARY:Gesunde Gemeinde
DESCRIPTION:Workshop im Rahmen der Gesunden Gemeinde – Visionboard 2026 mit Anita Silan \nFindet im Seminarraum statt!
URL:https://k3.at/veranstaltungen/gesunde-gemeinde-29/
END:VEVENT
BEGIN:VEVENT
DTSTART;TZID=Europe/Vienna:20260228T140000
DTEND;TZID=Europe/Vienna:20260228T183000
DTSTAMP:20260423T192111
CREATED:20250609T203350Z
LAST-MODIFIED:20250828T163145Z
UID:4794-1772287200-1772303400@k3.at
SUMMARY:Was ich dir noch sagen wollte
DESCRIPTION:WAS ICH DIR NOCH SAGEN WOLLTE – BOTSCHAFTEN AUS DEM JENSEITS \nDer Tod kommt oft unerwartet\, zu schnell und es bleibt ein Gefühl bestehen – „ICH WOLLTE DIR NOCH SO VIELES SAGEN“- dies betrifft sowohl die Lebenden aber auch die Verstorbenen. \nDie Lieben in der geistigen Welt\, wollen weiterhin Anteil an unserem Leben nehmen\, uns auf dem Lebensweg begleiten und in Liebe unterstützen\, sich manchmal auch entschuldigen und um Vergebung bitten. \nIm Alltag machen sie sich einerseits durch verschiedene Zeichen bemerkbar\, andererseits wollen sie sich aber auch mitteilen\, wie sie es bei Einzelsitzungen oder einem medialen Nachmittag tun\, um Botschaften an ihre Lieben weiterzugeben\, Hilfe und Unterstützung sein bzw. um noch etwas zu klären. \nEin Nachmittag\, den Sie nicht versäumen sollten! \nDie Veranstaltung findet im großen Saal und unteren Foyer statt.
URL:https://k3.at/veranstaltungen/was-ich-dir-noch-sagen-wollte/
END:VEVENT
END:VCALENDAR