BEGIN:VCALENDAR
VERSION:2.0
PRODID:-//Veranstaltungszentrum K3 - ECPv6.15.20//NONSGML v1.0//EN
CALSCALE:GREGORIAN
METHOD:PUBLISH
X-WR-CALNAME:Veranstaltungszentrum K3
X-ORIGINAL-URL:https://k3.at
X-WR-CALDESC:Veranstaltungen für Veranstaltungszentrum K3
REFRESH-INTERVAL;VALUE=DURATION:PT1H
X-Robots-Tag:noindex
X-PUBLISHED-TTL:PT1H
BEGIN:VTIMEZONE
TZID:Europe/Vienna
BEGIN:DAYLIGHT
TZOFFSETFROM:+0100
TZOFFSETTO:+0200
TZNAME:CEST
DTSTART:20250330T010000
END:DAYLIGHT
BEGIN:STANDARD
TZOFFSETFROM:+0200
TZOFFSETTO:+0100
TZNAME:CET
DTSTART:20251026T010000
END:STANDARD
BEGIN:DAYLIGHT
TZOFFSETFROM:+0100
TZOFFSETTO:+0200
TZNAME:CEST
DTSTART:20260329T010000
END:DAYLIGHT
BEGIN:STANDARD
TZOFFSETFROM:+0200
TZOFFSETTO:+0100
TZNAME:CET
DTSTART:20261025T010000
END:STANDARD
BEGIN:DAYLIGHT
TZOFFSETFROM:+0100
TZOFFSETTO:+0200
TZNAME:CEST
DTSTART:20270328T010000
END:DAYLIGHT
BEGIN:STANDARD
TZOFFSETFROM:+0200
TZOFFSETTO:+0100
TZNAME:CET
DTSTART:20271031T010000
END:STANDARD
END:VTIMEZONE
BEGIN:VEVENT
DTSTART;TZID=Europe/Vienna:20260224T080000
DTEND;TZID=Europe/Vienna:20260224T110000
DTSTAMP:20260423T191910
CREATED:20250703T081821Z
LAST-MODIFIED:20251118T101629Z
UID:4839-1771920000-1771930800@k3.at
SUMMARY:Gesunde Gemeinde
DESCRIPTION:Frauenberatung bewegt in St. Kanzian!\nDas kostenlose Angebot der WIFF-Frauenberatungsstelle Völkermarkt und dem Frauen- und Familienreferat der Gesunden Gemeinde St. Kanzian.
URL:https://k3.at/veranstaltungen/gesunde-gemeinde-18/
END:VEVENT
BEGIN:VEVENT
DTSTART;TZID=Europe/Vienna:20260224T083000
DTEND;TZID=Europe/Vienna:20260224T120000
DTSTAMP:20260423T191910
CREATED:20250307T193948Z
LAST-MODIFIED:20250307T194027Z
UID:4668-1771921800-1771934400@k3.at
SUMMARY:Konferenz
DESCRIPTION:Konferenz und Workshop der Musikschule Südkärnten im Seminarraum!
URL:https://k3.at/veranstaltungen/konferenz/
END:VEVENT
BEGIN:VEVENT
DTSTART;TZID=Europe/Vienna:20260224T173000
DTEND;TZID=Europe/Vienna:20260224T203000
DTSTAMP:20260423T191910
CREATED:20251118T101228Z
LAST-MODIFIED:20251118T101232Z
UID:5023-1771954200-1771965000@k3.at
SUMMARY:Werden Sie digitalfit!
DESCRIPTION:Werden Sie digitalfit! \nKostenloses Angebot der Gesunden Gemeinde St. Kanzian zum Thema: “ Sicher online shoppen: Kompetent und geschützt im Netz einkaufen“ \nReferent: Carinthian International Center (CIC Völkermarkt) \nAnmeldung: Bürgerservicebüro der Gemeinde St. Kanzian a. K. \nFindet im Seminarraum statt!
URL:https://k3.at/veranstaltungen/werden-sie-digitalfit/
END:VEVENT
END:VCALENDAR