BEGIN:VCALENDAR
VERSION:2.0
PRODID:-//Veranstaltungszentrum K3 - ECPv6.15.20//NONSGML v1.0//EN
CALSCALE:GREGORIAN
METHOD:PUBLISH
X-ORIGINAL-URL:https://k3.at
X-WR-CALDESC:Veranstaltungen für Veranstaltungszentrum K3
REFRESH-INTERVAL;VALUE=DURATION:PT1H
X-Robots-Tag:noindex
X-PUBLISHED-TTL:PT1H
BEGIN:VTIMEZONE
TZID:Europe/Vienna
BEGIN:DAYLIGHT
TZOFFSETFROM:+0100
TZOFFSETTO:+0200
TZNAME:CEST
DTSTART:20250330T010000
END:DAYLIGHT
BEGIN:STANDARD
TZOFFSETFROM:+0200
TZOFFSETTO:+0100
TZNAME:CET
DTSTART:20251026T010000
END:STANDARD
BEGIN:DAYLIGHT
TZOFFSETFROM:+0100
TZOFFSETTO:+0200
TZNAME:CEST
DTSTART:20260329T010000
END:DAYLIGHT
BEGIN:STANDARD
TZOFFSETFROM:+0200
TZOFFSETTO:+0100
TZNAME:CET
DTSTART:20261025T010000
END:STANDARD
BEGIN:DAYLIGHT
TZOFFSETFROM:+0100
TZOFFSETTO:+0200
TZNAME:CEST
DTSTART:20270328T010000
END:DAYLIGHT
BEGIN:STANDARD
TZOFFSETFROM:+0200
TZOFFSETTO:+0100
TZNAME:CET
DTSTART:20271031T010000
END:STANDARD
END:VTIMEZONE
BEGIN:VEVENT
DTSTART;TZID=Europe/Vienna:20260113T150000
DTEND;TZID=Europe/Vienna:20260113T200000
DTSTAMP:20260424T001732
CREATED:20251105T090146Z
LAST-MODIFIED:20251105T090151Z
UID:5010-1768316400-1768334400@k3.at
SUMMARY:Blutspendetermin
DESCRIPTION:\,\,Gemeinsam Leben Retten“ – Blutspende Aktion am 13.01. Jänner 2026\nVon 15:30 – 20:00 im Veranstaltungszentrum K3\, St. Kanzian
URL:https://k3.at/veranstaltungen/blutspendetermin-8/
END:VEVENT
BEGIN:VEVENT
DTSTART;TZID=Europe/Vienna:20260113T173000
DTEND;TZID=Europe/Vienna:20260113T203000
DTSTAMP:20260424T001732
CREATED:20250407T072541Z
LAST-MODIFIED:20250915T171718Z
UID:4748-1768325400-1768336200@k3.at
SUMMARY:Vortrag Gesunde Gemeinde
DESCRIPTION:Der Vortrag Gesunde Gemeinde Kursreihe Frauenzeit mit MMag. Verena Kalcher-Riegler findet im Seminarraum statt! \n 
URL:https://k3.at/veranstaltungen/vortrag-3/
END:VEVENT
END:VCALENDAR