BEGIN:VCALENDAR
VERSION:2.0
PRODID:-//Veranstaltungszentrum K3 - ECPv6.15.20//NONSGML v1.0//EN
CALSCALE:GREGORIAN
METHOD:PUBLISH
X-WR-CALNAME:Veranstaltungszentrum K3
X-ORIGINAL-URL:https://k3.at
X-WR-CALDESC:Veranstaltungen für Veranstaltungszentrum K3
REFRESH-INTERVAL;VALUE=DURATION:PT1H
X-Robots-Tag:noindex
X-PUBLISHED-TTL:PT1H
BEGIN:VTIMEZONE
TZID:Europe/Vienna
BEGIN:DAYLIGHT
TZOFFSETFROM:+0100
TZOFFSETTO:+0200
TZNAME:CEST
DTSTART:20250330T010000
END:DAYLIGHT
BEGIN:STANDARD
TZOFFSETFROM:+0200
TZOFFSETTO:+0100
TZNAME:CET
DTSTART:20251026T010000
END:STANDARD
BEGIN:DAYLIGHT
TZOFFSETFROM:+0100
TZOFFSETTO:+0200
TZNAME:CEST
DTSTART:20260329T010000
END:DAYLIGHT
BEGIN:STANDARD
TZOFFSETFROM:+0200
TZOFFSETTO:+0100
TZNAME:CET
DTSTART:20261025T010000
END:STANDARD
BEGIN:DAYLIGHT
TZOFFSETFROM:+0100
TZOFFSETTO:+0200
TZNAME:CEST
DTSTART:20270328T010000
END:DAYLIGHT
BEGIN:STANDARD
TZOFFSETFROM:+0200
TZOFFSETTO:+0100
TZNAME:CET
DTSTART:20271031T010000
END:STANDARD
END:VTIMEZONE
BEGIN:VEVENT
DTSTART;TZID=Europe/Vienna:20260106T133000
DTEND;TZID=Europe/Vienna:20260106T160000
DTSTAMP:20260424T001610
CREATED:20250507T135023Z
LAST-MODIFIED:20251125T095059Z
UID:4770-1767706200-1767715200@k3.at
SUMMARY:Neujahrskonzert 1
DESCRIPTION:Die traditionellen Neujahrskonzerte des Musikverein Möchling-Klopeiner See finden auch 2026 statt. Freuen sie sich auf ein abwechslungsreiches Programm\, welches ganz im Zeichen der Jugend steht. \nDie Veranstaltung findet im gesamten Haus statt!
URL:https://k3.at/veranstaltungen/neujahrskonzert-6/
END:VEVENT
BEGIN:VEVENT
DTSTART;TZID=Europe/Vienna:20260106T180000
DTEND;TZID=Europe/Vienna:20260106T200000
DTSTAMP:20260424T001610
CREATED:20251125T095251Z
LAST-MODIFIED:20251125T095721Z
UID:5035-1767722400-1767729600@k3.at
SUMMARY:Neujahrskonzert 2
DESCRIPTION:Die traditionellen Neujahrskonzerte des Musikverein Möchling-Klopeiner See finden auch 2026 statt. Freuen sie sich auf ein abwechslungsreiches Programm\, welches ganz im Zeichen der Jugend steht. \nDie Veranstaltung findet im gesamten Haus statt!
URL:https://k3.at/veranstaltungen/neujahrskonzert-2-2/
END:VEVENT
END:VCALENDAR