BEGIN:VCALENDAR
VERSION:2.0
PRODID:-//Veranstaltungszentrum K3 - ECPv6.15.20//NONSGML v1.0//EN
CALSCALE:GREGORIAN
METHOD:PUBLISH
X-ORIGINAL-URL:https://k3.at
X-WR-CALDESC:Veranstaltungen für Veranstaltungszentrum K3
REFRESH-INTERVAL;VALUE=DURATION:PT1H
X-Robots-Tag:noindex
X-PUBLISHED-TTL:PT1H
BEGIN:VTIMEZONE
TZID:Europe/Vienna
BEGIN:DAYLIGHT
TZOFFSETFROM:+0100
TZOFFSETTO:+0200
TZNAME:CEST
DTSTART:20240331T010000
END:DAYLIGHT
BEGIN:STANDARD
TZOFFSETFROM:+0200
TZOFFSETTO:+0100
TZNAME:CET
DTSTART:20241027T010000
END:STANDARD
BEGIN:DAYLIGHT
TZOFFSETFROM:+0100
TZOFFSETTO:+0200
TZNAME:CEST
DTSTART:20250330T010000
END:DAYLIGHT
BEGIN:STANDARD
TZOFFSETFROM:+0200
TZOFFSETTO:+0100
TZNAME:CET
DTSTART:20251026T010000
END:STANDARD
BEGIN:DAYLIGHT
TZOFFSETFROM:+0100
TZOFFSETTO:+0200
TZNAME:CEST
DTSTART:20260329T010000
END:DAYLIGHT
BEGIN:STANDARD
TZOFFSETFROM:+0200
TZOFFSETTO:+0100
TZNAME:CET
DTSTART:20261025T010000
END:STANDARD
END:VTIMEZONE
BEGIN:VEVENT
DTSTART;TZID=Europe/Vienna:20251107T190000
DTEND;TZID=Europe/Vienna:20251108T230000
DTSTAMP:20260424T033444
CREATED:20250203T205849Z
LAST-MODIFIED:20250324T204511Z
UID:4636-1762542000-1762642800@k3.at
SUMMARY:CD Präsentation
DESCRIPTION:Die „CD-Präsentation-Quartett Nomos“ findet am 08.11.2025 im gesamten Haus statt! \nAm 07.11.2025 finden Vorbereitungsarbeiten statt!
URL:https://k3.at/veranstaltungen/cd-praesentation/
END:VEVENT
BEGIN:VEVENT
DTSTART;TZID=Europe/Vienna:20251108T190000
DTEND;TZID=Europe/Vienna:20251108T230000
DTSTAMP:20260424T033444
CREATED:20250807T091019Z
LAST-MODIFIED:20250826T120734Z
UID:4885-1762628400-1762642800@k3.at
SUMMARY:CD Präsentation
DESCRIPTION:Die „CD-Präsentation-Quartett Nomos“ findet am 08.11.2025 im gesamten Haus statt!
URL:https://k3.at/veranstaltungen/cd-presentaion/
END:VEVENT
END:VCALENDAR