BEGIN:VCALENDAR
VERSION:2.0
PRODID:-//Veranstaltungszentrum K3 - ECPv6.15.20//NONSGML v1.0//EN
CALSCALE:GREGORIAN
METHOD:PUBLISH
X-WR-CALNAME:Veranstaltungszentrum K3
X-ORIGINAL-URL:https://k3.at
X-WR-CALDESC:Veranstaltungen für Veranstaltungszentrum K3
REFRESH-INTERVAL;VALUE=DURATION:PT1H
X-Robots-Tag:noindex
X-PUBLISHED-TTL:PT1H
BEGIN:VTIMEZONE
TZID:Europe/Vienna
BEGIN:DAYLIGHT
TZOFFSETFROM:+0100
TZOFFSETTO:+0200
TZNAME:CEST
DTSTART:20240331T010000
END:DAYLIGHT
BEGIN:STANDARD
TZOFFSETFROM:+0200
TZOFFSETTO:+0100
TZNAME:CET
DTSTART:20241027T010000
END:STANDARD
BEGIN:DAYLIGHT
TZOFFSETFROM:+0100
TZOFFSETTO:+0200
TZNAME:CEST
DTSTART:20250330T010000
END:DAYLIGHT
BEGIN:STANDARD
TZOFFSETFROM:+0200
TZOFFSETTO:+0100
TZNAME:CET
DTSTART:20251026T010000
END:STANDARD
BEGIN:DAYLIGHT
TZOFFSETFROM:+0100
TZOFFSETTO:+0200
TZNAME:CEST
DTSTART:20260329T010000
END:DAYLIGHT
BEGIN:STANDARD
TZOFFSETFROM:+0200
TZOFFSETTO:+0100
TZNAME:CET
DTSTART:20261025T010000
END:STANDARD
END:VTIMEZONE
BEGIN:VEVENT
DTSTART;TZID=Europe/Vienna:20250929T150000
DTEND;TZID=Europe/Vienna:20250929T233000
DTSTAMP:20260424T072502
CREATED:20250707T201332Z
LAST-MODIFIED:20250707T201628Z
UID:4859-1759158000-1759188600@k3.at
SUMMARY:Privatveranstaltung
DESCRIPTION:Die Geburtstagsfeier findet im unteren Foyer statt!
URL:https://k3.at/veranstaltungen/privatveranstaltung-32/
END:VEVENT
END:VCALENDAR