BEGIN:VCALENDAR
VERSION:2.0
PRODID:-//Veranstaltungszentrum K3 - ECPv6.15.20//NONSGML v1.0//EN
CALSCALE:GREGORIAN
METHOD:PUBLISH
X-WR-CALNAME:Veranstaltungszentrum K3
X-ORIGINAL-URL:https://k3.at
X-WR-CALDESC:Veranstaltungen für Veranstaltungszentrum K3
REFRESH-INTERVAL;VALUE=DURATION:PT1H
X-Robots-Tag:noindex
X-PUBLISHED-TTL:PT1H
BEGIN:VTIMEZONE
TZID:Europe/Vienna
BEGIN:DAYLIGHT
TZOFFSETFROM:+0100
TZOFFSETTO:+0200
TZNAME:CEST
DTSTART:20240331T010000
END:DAYLIGHT
BEGIN:STANDARD
TZOFFSETFROM:+0200
TZOFFSETTO:+0100
TZNAME:CET
DTSTART:20241027T010000
END:STANDARD
BEGIN:DAYLIGHT
TZOFFSETFROM:+0100
TZOFFSETTO:+0200
TZNAME:CEST
DTSTART:20250330T010000
END:DAYLIGHT
BEGIN:STANDARD
TZOFFSETFROM:+0200
TZOFFSETTO:+0100
TZNAME:CET
DTSTART:20251026T010000
END:STANDARD
BEGIN:DAYLIGHT
TZOFFSETFROM:+0100
TZOFFSETTO:+0200
TZNAME:CEST
DTSTART:20260329T010000
END:DAYLIGHT
BEGIN:STANDARD
TZOFFSETFROM:+0200
TZOFFSETTO:+0100
TZNAME:CET
DTSTART:20261025T010000
END:STANDARD
END:VTIMEZONE
BEGIN:VEVENT
DTSTART;TZID=Europe/Vienna:20250927T140000
DTEND;TZID=Europe/Vienna:20250927T180000
DTSTAMP:20260424T091241
CREATED:20240701T182430Z
LAST-MODIFIED:20240701T182434Z
UID:4269-1758981600-1758996000@k3.at
SUMMARY:BLICK INS JENSEITS
DESCRIPTION:DER BLICK INS JENSEITS \nDAS JENSEITS\, ein Ort der anderen Wirklichkeit ein Daseinszustand\, der sich jenseits der Naturwissenschaften befindet und durch diese auch nicht wahrgenommen werden kann\, sich aber in mystischen und religiösen Vorstellungen widerspiegelt. \nAber WAS und WO ist das JENSEITS – diese Frage bekommen die Teilnehmer*innen von ASTRID WIPFLI-RIEDER während des medialen Nachmittags beantwortet.\nIm Vortrag werden nicht nur Themen wie\, das JENSEITS als «Himmlischer und Übernatürlicher Bereich»\, das DIESSEITS als Zwischenstopp für unsere Seelenreifung\, das Leben in der feinstofflichen Materie und das Phänomen von Nahtoderlebnissen beschrieben sondern auch oft gestellte Fragen wie\, gibt es eine Hölle\, ein Gericht\, eine Anklage oder eine Bestrafung nach einem Suizid im Jenseits\, werden behandelt.\nWie Verstorbene in der Rückschau ihr gelebtes Leben selbstkritisch sehen und was sie ihren Lieben noch mitteilen wollen\, erleben sie ebenso an diesem Nachmittag \nFindet im großen Saal und unteren Foyer statt.
URL:https://k3.at/veranstaltungen/blick-ins-jenseits/
END:VEVENT
END:VCALENDAR